BEGIN:VCALENDAR
VERSION:2.0
PRODID:-//VILA - Blog - ECPv4.5.12.2//NONSGML v1.0//EN
CALSCALE:GREGORIAN
METHOD:PUBLISH
X-WR-CALNAME:VILA - Blog
X-ORIGINAL-URL:https://blog.livrariadavila.com.br
X-WR-CALDESC:Events for VILA - Blog
BEGIN:VEVENT
DTSTART;TZID=America/Sao_Paulo:20191217T190000
DTEND;TZID=America/Sao_Paulo:20191217T213000
DTSTAMP:20260423T132059
CREATED:20191202T182959Z
LAST-MODIFIED:20191217T175713Z
UID:104457-1576609200-1576618200@blog.livrariadavila.com.br
SUMMARY:Ela salvou minha vida
DESCRIPTION: \nForam 11 anos de convivência intensa com a mais popular apresentadora de todos os tempos – até a morte dela\, em setembro de 2012. O início foi no SBT. Depois\, Sacchiero acompanhou Hebe na transferência para a RedeTV! Quando estavam juntos\, conversavam sobre tudo. Aconteciam trocas de confidências. Edu afirma que\, na intimidade\, Hebe era ainda mais encantadora do que em público\, diante das câmeras e flashes. “Foi um anjo. Uma pessoa muito humana\, que fazia o bem aos outros sem esperar algo em troca e sem divulgar nada”\, explica. Edu Sacchiero e Hebe Camargo. Diversas histórias dessa relação profissional e de amizade estarão no livro. \n  \nDe Edu Sacchiero \nEd. Leader \n  \n  \n
URL:https://blog.livrariadavila.com.br/event/ela-salvou-minha-vida/
LOCATION:Rua Fradique Coutinho\, 915 - Pinheiros\, São Paulo\, São Paulo\, 05416-011\, Brasil
GEO:-23.5592934;-46.6892019
X-APPLE-STRUCTURED-LOCATION;VALUE=URI;X-ADDRESS=Rua Fradique Coutinho 915 - Pinheiros São Paulo São Paulo 05416-011 Brasil;X-APPLE-RADIUS=500;X-TITLE=Rua Fradique Coutinho\, 915 - Pinheiros:geo:-46.6892019,-23.5592934
CATEGORIES:BATE-PAPO,LANÇAMENTOS,SESSÕES DE AUTÓGRAFOS
END:VEVENT
END:VCALENDAR