BEGIN:VCALENDAR
VERSION:2.0
PRODID:-//VILA - Blog - ECPv4.5.12.2//NONSGML v1.0//EN
CALSCALE:GREGORIAN
METHOD:PUBLISH
X-WR-CALNAME:VILA - Blog
X-ORIGINAL-URL:https://blog.livrariadavila.com.br
X-WR-CALDESC:Events for VILA - Blog
BEGIN:VEVENT
DTSTART;TZID=America/Sao_Paulo:20190403T190000
DTEND;TZID=America/Sao_Paulo:20190403T213000
DTSTAMP:20260421T214843
CREATED:20190327T165818Z
LAST-MODIFIED:20190327T165818Z
UID:95844-1554318000-1554327000@blog.livrariadavila.com.br
SUMMARY:Elegia do irmão
DESCRIPTION: Dividido em duas partes\, Elegia do irmão conta a vida de Mara através das lembranças de seu irmão. Jovem\, diagnosticada com uma doença grave\, Mara sabe que terá um período conturbado de tratamento\, e que o apoio da família será fundamental para uma possível recuperação. Ao mesmo tempo\, seu irmão\, ao viver a dor da notícia\, não quer se deixar tomar apenas pelo sofrimento infligido a ela\, escolhendo também se lembrar de como eles viveram\, da memória dos momentos passados juntos que solidificaram essa relação fraternal através dos anos.\nCom uma narrativa envolvente e belíssima\, João Anzanello Carrascoza constrói um retrato contundente e apaixonado de uma das ligações mais íntimas do ser humano: a irmandade. Mara e seu irmão são carne da mesma carne\, frutos de um mesmo amor\, mas ainda assim são indivíduos repletos de conflitos e diferenças. A dualidade humana se estabelece no romance e na comunhão entre os irmãos marcados pelo fim precoce. O resultado é uma obra única\, que ratifica o vigor lírico do autor e seu domínio da narrativa longa. \nDe João Anzanello Carrascoza \nEd. Alfaguara \n
URL:https://blog.livrariadavila.com.br/event/elegia-do-irmao/
LOCATION:Rua Fradique Coutinho\, 915 - Pinheiros\, São Paulo\, São Paulo\, 05416-011\, Brasil
GEO:-23.5592934;-46.6892019
X-APPLE-STRUCTURED-LOCATION;VALUE=URI;X-ADDRESS=Rua Fradique Coutinho 915 - Pinheiros São Paulo São Paulo 05416-011 Brasil;X-APPLE-RADIUS=500;X-TITLE=Rua Fradique Coutinho\, 915 - Pinheiros:geo:-46.6892019,-23.5592934
CATEGORIES:LANÇAMENTOS,SESSÕES DE AUTÓGRAFOS
END:VEVENT
END:VCALENDAR