BEGIN:VCALENDAR
VERSION:2.0
PRODID:-//VILA - Blog - ECPv4.5.12.2//NONSGML v1.0//EN
CALSCALE:GREGORIAN
METHOD:PUBLISH
X-WR-CALNAME:VILA - Blog
X-ORIGINAL-URL:https://blog.livrariadavila.com.br
X-WR-CALDESC:Events for VILA - Blog
BEGIN:VEVENT
DTSTART;TZID=America/Sao_Paulo:20191008T193000
DTEND;TZID=America/Sao_Paulo:20191008T213000
DTSTAMP:20260423T050835
CREATED:20191001T160905Z
LAST-MODIFIED:20191001T160905Z
UID:99480-1570563000-1570570200@blog.livrariadavila.com.br
SUMMARY:Em busca da alma brasileira – Biografia de Mário de Andrade
DESCRIPTION: \nEscrito com base em pesquisa bibliográfica e documentos de primeira mão\, Em busca da alma brasileira – biografia de Mário de Andrade passa a limpo um dos capítulos mais fascinantes da nossa história cultural e que traz muitas lições para o Brasil de hoje. \n  \nDe Jason Tércio \nEd. Estação Brasil \n
URL:https://blog.livrariadavila.com.br/event/em-busca-da-alma-brasileira-biografia-de-mario-de-andrade/
LOCATION:Av. Higienópolis\, 618 – Higienópolis\, São Paulo\, SP\, 01238-000\, Brasil
GEO:-23.542049;-46.6577148
X-APPLE-STRUCTURED-LOCATION;VALUE=URI;X-ADDRESS=Av. Higienópolis 618 – Higienópolis São Paulo SP 01238-000 Brasil;X-APPLE-RADIUS=500;X-TITLE=Av. Higienópolis\, 618 – Higienópolis:geo:-46.6577148,-23.542049
CATEGORIES:SESSÕES DE AUTÓGRAFOS
END:VEVENT
END:VCALENDAR