BEGIN:VCALENDAR
VERSION:2.0
PRODID:-//VILA - Blog - ECPv4.5.12.2//NONSGML v1.0//EN
CALSCALE:GREGORIAN
METHOD:PUBLISH
X-WR-CALNAME:VILA - Blog
X-ORIGINAL-URL:https://blog.livrariadavila.com.br
X-WR-CALDESC:Events for VILA - Blog
BEGIN:VEVENT
DTSTART;TZID=America/Sao_Paulo:20240731T180000
DTEND;TZID=America/Sao_Paulo:20240731T210000
DTSTAMP:20260420T140326
CREATED:20240717T174903Z
LAST-MODIFIED:20240717T174903Z
UID:123294-1722448800-1722459600@blog.livrariadavila.com.br
SUMMARY:EM CENA - VALÉRIA BARCELLOS E MARIANA KAWAZOE – ED. ÁGORA
DESCRIPTION: \n  \nEste livro contém relatos de autores que conduziram atividades no “Em Cena” no 14o Congresso Iberoamericano de Psicodrama\, ocorrido em Florianópolis (SC) em 2023. O “Em Cena” é a modalidade do congresso destinada aos participantes do evento e ao público da cidade\, que cede o espaço para intervenções grupais. Cada diretor(a) e sua equipe compartilham olhares diferentes a partir do mesmo espaço e de condições semelhantes\, porém com participações inesperadas e surpresas reveladas ao longo dos sociodramas. Cada psicodramatista\, com seus recursos e sua experiência\, propôs atividades interessantes e criativas\, ativando fenômenos coconscientes e coinconscientes. \n
URL:https://blog.livrariadavila.com.br/event/em-cena-valeria-barcellos-e-mariana-kawazoe-ed-agora-2/
LOCATION:Rua Fradique Coutinho\, 915 - Pinheiros\, São Paulo\, São Paulo\, 05416-011\, Brasil
GEO:-23.5592934;-46.6892019
X-APPLE-STRUCTURED-LOCATION;VALUE=URI;X-ADDRESS=Rua Fradique Coutinho 915 - Pinheiros São Paulo São Paulo 05416-011 Brasil;X-APPLE-RADIUS=500;X-TITLE=Rua Fradique Coutinho\, 915 - Pinheiros:geo:-46.6892019,-23.5592934
END:VEVENT
END:VCALENDAR