BEGIN:VCALENDAR
VERSION:2.0
PRODID:-//VILA - Blog - ECPv4.5.12.2//NONSGML v1.0//EN
CALSCALE:GREGORIAN
METHOD:PUBLISH
X-WR-CALNAME:VILA - Blog
X-ORIGINAL-URL:https://blog.livrariadavila.com.br
X-WR-CALDESC:Events for VILA - Blog
BEGIN:VEVENT
DTSTART;TZID=America/Sao_Paulo:20181020T140000
DTEND;TZID=America/Sao_Paulo:20181020T163000
DTSTAMP:20260420T165911
CREATED:20181010T173810Z
LAST-MODIFIED:20181010T173810Z
UID:22949-1540044000-1540053000@blog.livrariadavila.com.br
SUMMARY:Empodere-se de sua história - seja quem você deseja ser\, esteja com quem deseja estar
DESCRIPTION:O desejo em organizar esta obra se tornou maior e mais forte a partir de uma dinâmica que utilizei em sala de aula\, “dinâmica do currículo oculto.” Sabe quando você não parou para perceber que em cada momento da sua vida você estava aprendendo e ao mesmo tempo ensinando algo importante\, para sua vida e para vida do outro?! \nDesde que você chegou a este mundo\, isso vem acontecendo\, muitas vezes sua vida é tão corrida que mal dá para perceber a aprendizagem do dia a dia\, aquela embutida nos desafios corriqueiros. Também acontece de pensarmos apenas na vida adulta\, nos momentos mais próximos do tempo em que estamos vivendo agora \nDe Silva Pereira Coach e outros autores \nEd. All Print \n
URL:https://blog.livrariadavila.com.br/event/empodere-se-de-sua-historia-seja-quem-voce-deseja-ser-esteja-com-quem-deseja-estar/
LOCATION:Av. Juscelino Kubitschek\, 2041 - Itaim Bibi\, São Paulo\, São Paulo\, 04543-011\, Brasil
GEO:-23.5914219;-46.6898224
X-APPLE-STRUCTURED-LOCATION;VALUE=URI;X-ADDRESS=Av. Juscelino Kubitschek 2041 - Itaim Bibi São Paulo São Paulo 04543-011 Brasil;X-APPLE-RADIUS=500;X-TITLE=Av. Juscelino Kubitschek\, 2041 - Itaim Bibi:geo:-46.6898224,-23.5914219
CATEGORIES:LANÇAMENTOS,SESSÕES DE AUTÓGRAFOS
END:VEVENT
END:VCALENDAR