BEGIN:VCALENDAR
VERSION:2.0
PRODID:-//VILA - Blog - ECPv4.5.12.2//NONSGML v1.0//EN
CALSCALE:GREGORIAN
METHOD:PUBLISH
X-WR-CALNAME:VILA - Blog
X-ORIGINAL-URL:https://blog.livrariadavila.com.br
X-WR-CALDESC:Events for VILA - Blog
BEGIN:VEVENT
DTSTART;TZID=America/Sao_Paulo:20181207T183000
DTEND;TZID=America/Sao_Paulo:20181207T213000
DTSTAMP:20260420T101744
CREATED:20181128T142619Z
LAST-MODIFIED:20181128T142619Z
UID:23709-1544207400-1544218200@blog.livrariadavila.com.br
SUMMARY:Empreendedoras de Alta Performance do Mato Grosso do Sul
DESCRIPTION: Empreendedoras de Alta Performance de Mato Grosso do Sul\, apresenta a trajetória de empreendedoras que fazem a diferença no estado.\nO livro traz os relatos de 14 empreendedoras do Mato Grosso do Sul que relatam os caminhos que trilharam até conquistar seu lugar de destaque nos negócios e carreira\, contribuindo ainda com a pujança econômica do seu estado e do país.\nSão histórias repletas de desafios\, superação e resiliência que transformam essas mulheres em exemplos para quem almeja se desenvolver tanto profissional quanto pessoalmente.\nO livro faz parte de um projeto nacional\, criado pela Editora Leader\, que traz as empreendedoras de alta performance de cada estado em obras exclusivas. \nDe Andréia Roma e Mônica Fernandes (Coord.) \nEd. Leader \n
URL:https://blog.livrariadavila.com.br/event/empreendedoras-de-alta-performance-do-mato-grosso-do-sul/
LOCATION:Av. Juscelino Kubitschek\, 2041 - Itaim Bibi\, São Paulo\, São Paulo\, 04543-011\, Brasil
GEO:-23.5914219;-46.6898224
X-APPLE-STRUCTURED-LOCATION;VALUE=URI;X-ADDRESS=Av. Juscelino Kubitschek 2041 - Itaim Bibi São Paulo São Paulo 04543-011 Brasil;X-APPLE-RADIUS=500;X-TITLE=Av. Juscelino Kubitschek\, 2041 - Itaim Bibi:geo:-46.6898224,-23.5914219
CATEGORIES:LANÇAMENTOS,SESSÕES DE AUTÓGRAFOS
END:VEVENT
END:VCALENDAR