BEGIN:VCALENDAR
VERSION:2.0
PRODID:-//VILA - Blog - ECPv4.5.12.2//NONSGML v1.0//EN
CALSCALE:GREGORIAN
METHOD:PUBLISH
X-WR-CALNAME:VILA - Blog
X-ORIGINAL-URL:https://blog.livrariadavila.com.br
X-WR-CALDESC:Events for VILA - Blog
BEGIN:VEVENT
DTSTART;TZID=America/Sao_Paulo:20240918T180000
DTEND;TZID=America/Sao_Paulo:20240918T210000
DTSTAMP:20260425T032534
CREATED:20240828T153807Z
LAST-MODIFIED:20240828T153807Z
UID:123930-1726682400-1726693200@blog.livrariadavila.com.br
SUMMARY:EMPREGABILIDADE EXPONENCIAL - DANIEL MORETTO – ED. GENTE
DESCRIPTION: \n\n\n\n\nCansado de correr atrás de um emprego e viver na corda bamba da incerteza? Com um número de vagas significativamente menor do que o de profissionais\, tanto jovens quanto veteranos enfrentam barreiras desanimadoras no mercado de trabalho\, seja para conquistar o primeiro emprego\, recolocar-se como profissional ou destacar-se em sua área. Como driblar esses desafios para se tornar uma exceção em um ambiente que fica cada vez mais competitivo? Em Empregabilidade exponencial\, Daniel Moretto compila histórias e dicas valiosas e mostra as ferramentas essenciais para que qualquer profissional se torne desejado pelas empresas\, blindando a carreira das incertezas do mercado\, superando a barreira do etarismo e abrindo portas para oportunidades inimagináveis. Com este livro\, você vai: Entender como o autoconhecimento\, a informação\, o posicionamento e a definição de objetivos podem tornar você um profissional disputado pelo mercado; Aprender a fazer networking do jeito certo\, para melhorar as chances de promoção ou de recolocação rápida; Criar o melhor perfil possível no LinkedIn e tratar a rede social como vitrine para vender a sua marca profissional; Escolher um bom mentor para encurtar o espaço de tempo e aprendizado necessários para alcançar os seus objetivos profissionais; Continuar evoluindo e chamando a atenção dos recrutadores para o seu perfil profissional\, mesmo depois de conseguir o que deseja. “Sei que você deve estar pensando: e por acaso ler um livro é garantia de emprego? Claro que não. Mas é\, sim\, uma vantagem primordial frente à grande concorrência que existe para as melhores vagas nas melhores empresas.”\n\n\n\n\n
URL:https://blog.livrariadavila.com.br/event/empregabilidade-exponencial-daniel-moretto-ed-gente/
LOCATION:Av. Rebouças\, 3970 Piso 1 - Pinheiros\, São Paulo\, São Paulo\, 05402-600
END:VEVENT
END:VCALENDAR