BEGIN:VCALENDAR
VERSION:2.0
PRODID:-//VILA - Blog - ECPv4.5.12.2//NONSGML v1.0//EN
CALSCALE:GREGORIAN
METHOD:PUBLISH
X-WR-CALNAME:VILA - Blog
X-ORIGINAL-URL:https://blog.livrariadavila.com.br
X-WR-CALDESC:Events for VILA - Blog
BEGIN:VEVENT
DTSTART;TZID=America/Sao_Paulo:20190406T110000
DTEND;TZID=America/Sao_Paulo:20190406T130000
DTSTAMP:20260420T025637
CREATED:20190322T191029Z
LAST-MODIFIED:20190322T191029Z
UID:95725-1554548400-1554555600@blog.livrariadavila.com.br
SUMMARY:Encontro de fãs - Rainha do ar e da escuridão
DESCRIPTION:Com Fãs de Cassandra Clare \nConvidamos os shadowhunters para o evento de lançamento do livro:”Rainha do ar e da escuridão”\, último livro da trilogia “Os artifícios das trevas”.  Esperamos vocês em um bate-papo entre leitores e sorteio de brindes. \nATENÇÃO: Não teremos a presença da autora Cassandra Clare. \nApoio: Ed. Record \nLoja: Lorena \nEvento gratuito \n
URL:https://blog.livrariadavila.com.br/event/encontro-de-fas-rainha-do-ar-e-da-escuridao-2/
CATEGORIES:BATE-PAPO,CLUBES DE LEITURA
END:VEVENT
END:VCALENDAR