BEGIN:VCALENDAR
VERSION:2.0
PRODID:-//VILA - Blog - ECPv4.5.12.2//NONSGML v1.0//EN
CALSCALE:GREGORIAN
METHOD:PUBLISH
X-WR-CALNAME:VILA - Blog
X-ORIGINAL-URL:https://blog.livrariadavila.com.br
X-WR-CALDESC:Events for VILA - Blog
BEGIN:VEVENT
DTSTART;TZID=America/Sao_Paulo:20191217T183000
DTEND;TZID=America/Sao_Paulo:20191217T213000
DTSTAMP:20260421T005514
CREATED:20191210T165239Z
LAST-MODIFIED:20191210T165239Z
UID:109785-1576607400-1576618200@blog.livrariadavila.com.br
SUMMARY:Ensaios sobre a constituição de 1988
DESCRIPTION:O trigésimo aniversário da Constituição Federal de 1988 representa proeminente marco de longevidade de uma ordem democrática robusta e fundada na valorização da dignidade humana. O que pode parecer mero truísmo para nações cujo arcabouço constitucional foi consolidado ao longo de séculos\, a nós se afigura conquista sem precedentes: o triunfo da estabilidade das nossas instituições e a aversão a concepções aventureiras que poderiam suscitar retrocessos na nossa trajetória de democratização. \n  \nDe Luis Nelson Porto Araujo \nEd. Liberars \n
URL:https://blog.livrariadavila.com.br/event/ensaios-sobre-a-constituicao-de-1988/
LOCATION:Av. Juscelino Kubitschek\, 2041 - Itaim Bibi\, São Paulo\, São Paulo\, 04543-011\, Brasil
GEO:-23.5914219;-46.6898224
X-APPLE-STRUCTURED-LOCATION;VALUE=URI;X-ADDRESS=Av. Juscelino Kubitschek 2041 - Itaim Bibi São Paulo São Paulo 04543-011 Brasil;X-APPLE-RADIUS=500;X-TITLE=Av. Juscelino Kubitschek\, 2041 - Itaim Bibi:geo:-46.6898224,-23.5914219
CATEGORIES:LANÇAMENTOS,SESSÕES DE AUTÓGRAFOS
END:VEVENT
END:VCALENDAR