BEGIN:VCALENDAR
VERSION:2.0
PRODID:-//VILA - Blog - ECPv4.5.12.2//NONSGML v1.0//EN
CALSCALE:GREGORIAN
METHOD:PUBLISH
X-WR-CALNAME:VILA - Blog
X-ORIGINAL-URL:https://blog.livrariadavila.com.br
X-WR-CALDESC:Events for VILA - Blog
BEGIN:VEVENT
DTSTART;TZID=America/Sao_Paulo:20190330T150000
DTEND;TZID=America/Sao_Paulo:20190330T180000
DTSTAMP:20260420T195135
CREATED:20190327T122416Z
LAST-MODIFIED:20190327T122416Z
UID:95797-1553958000-1553968800@blog.livrariadavila.com.br
SUMMARY:Entre vinhos e flores
DESCRIPTION:com Karla de Oliveira \nIndependente \nEntre vinhos e flores é um livro onde histórias reais se fundem para contar a trajetória de Willian. Assim como os vários pedaços das histórias que inspiraram o livro\, a vida de Willian também é fragmentada\, entre um passado que não o abandona e ele insiste em reviver. E entre um presente que o impulsiona a agir.\nPor mais que ele tenha medo de viver intensamente\, Willian encontra em meio ao choque de saber que lhe restam poucos meses de vida\, o ímpeto para buscar uma antiga namorada de adolescência. É diante da perspectiva do fim que ele decide começar uma nova jornada. \n
URL:https://blog.livrariadavila.com.br/event/entre-vinhos-e-flores/
LOCATION:Avenida do Batel\, nº 1868 – Loja 314 piso L3\, Curitiba\, Paraná\, 80420-090\, Brasil
GEO:-25.443012;-49.2899507
X-APPLE-STRUCTURED-LOCATION;VALUE=URI;X-ADDRESS=Avenida do Batel nº 1868 – Loja 314 piso L3 Curitiba Paraná 80420-090 Brasil;X-APPLE-RADIUS=500;X-TITLE=Avenida do Batel\, nº 1868 – Loja 314 piso L3:geo:-49.2899507,-25.443012
CATEGORIES:LANÇAMENTOS,SESSÕES DE AUTÓGRAFOS
END:VEVENT
END:VCALENDAR