BEGIN:VCALENDAR
VERSION:2.0
PRODID:-//VILA - Blog - ECPv4.5.12.2//NONSGML v1.0//EN
CALSCALE:GREGORIAN
METHOD:PUBLISH
X-WR-CALNAME:VILA - Blog
X-ORIGINAL-URL:https://blog.livrariadavila.com.br
X-WR-CALDESC:Events for VILA - Blog
BEGIN:VEVENT
DTSTART;TZID=America/Sao_Paulo:20181121T183000
DTEND;TZID=America/Sao_Paulo:20181121T213000
DTSTAMP:20260420T152157
CREATED:20181106T174224Z
LAST-MODIFIED:20181106T174224Z
UID:23372-1542825000-1542835800@blog.livrariadavila.com.br
SUMMARY:Eros e psiquê - Um caminho possível para pensar a docência
DESCRIPTION: Vivenciar o conto de Eros e Psiquê em oficinas de sensibilização contribuiu para que as professoras refletissem o “saber diferenciar\, através do olhar de águia\, o essencial do secundário e saber aguardar o momento para a ação certa e precisa” que mobilizaria transformações no ser e fazer do ser humano\, no ser e fazer do professor que\, certamente\, reverberarão no ser e fazer do aluno! Parte-se do intra para o interpessoal\, criando-se movimentos dinâmicos que servirão de alimento para a própria relação educacional. \nDe Lídia Lacava \nEd. Porto de Idéias \n
URL:https://blog.livrariadavila.com.br/event/eros-e-psique-um-caminho-possivel-para-pensar-a-docencia/
CATEGORIES:LANÇAMENTOS,SESSÕES DE AUTÓGRAFOS
END:VEVENT
END:VCALENDAR