BEGIN:VCALENDAR
VERSION:2.0
PRODID:-//VILA - Blog - ECPv4.5.12.2//NONSGML v1.0//EN
CALSCALE:GREGORIAN
METHOD:PUBLISH
X-WR-CALNAME:VILA - Blog
X-ORIGINAL-URL:https://blog.livrariadavila.com.br
X-WR-CALDESC:Events for VILA - Blog
BEGIN:VEVENT
DTSTART;TZID=America/Sao_Paulo:20200128T183000
DTEND;TZID=America/Sao_Paulo:20200128T213000
DTSTAMP:20260420T231244
CREATED:20191218T180711Z
LAST-MODIFIED:20191218T180711Z
UID:112166-1580236200-1580247000@blog.livrariadavila.com.br
SUMMARY:Escravidão contemporânea
DESCRIPTION: \nTodo ano\, milhares de pessoas são traficadas e submetidas a condições desumanas de serviço e impedidas de romper a relação com o empregador. Não raro\, são impedidas de se desligar do trabalho até concluírem a tarefa para a qual foram aliciadas\, sob ameaças que vão de torturas psicológicas a espancamentos e assassinatos. Pessoas que têm sua dignidade arrancada por um regime de trabalho escravo. Este livro\, organizado por Leonardo Sakamoto\, reúne grandes especialistas nacionais e estrangeiros que mostram o que é o trabalho escravo contemporâneo\, sua história recente\, como ele se insere no Brasil e no mundo\, o que tem sido feito para erradicá-lo\, e por que tem sido tão difícil combatê-lo. Uma obra necessária\, uma ferramenta para uma das mais importantes batalhas de nosso tempo. Afinal\, enquanto qualquer ser humano for vítima de trabalho escravo\, a humanidade não será\, de fato\, livre. \n  \nDe Leonardo Sakamoto \nEd. Contexto \n  \nLançamento e bate-papo \n
URL:https://blog.livrariadavila.com.br/event/escravidao-contemporanea/
LOCATION:Rua Fradique Coutinho\, 915 - Pinheiros\, São Paulo\, São Paulo\, 05416-011\, Brasil
GEO:-23.5592934;-46.6892019
X-APPLE-STRUCTURED-LOCATION;VALUE=URI;X-ADDRESS=Rua Fradique Coutinho 915 - Pinheiros São Paulo São Paulo 05416-011 Brasil;X-APPLE-RADIUS=500;X-TITLE=Rua Fradique Coutinho\, 915 - Pinheiros:geo:-46.6892019,-23.5592934
CATEGORIES:BATE-PAPO,LANÇAMENTOS,SESSÕES DE AUTÓGRAFOS
END:VEVENT
END:VCALENDAR