BEGIN:VCALENDAR
VERSION:2.0
PRODID:-//VILA - Blog - ECPv4.5.12.2//NONSGML v1.0//EN
CALSCALE:GREGORIAN
METHOD:PUBLISH
X-WR-CALNAME:VILA - Blog
X-ORIGINAL-URL:https://blog.livrariadavila.com.br
X-WR-CALDESC:Events for VILA - Blog
BEGIN:VEVENT
DTSTART;TZID=America/Sao_Paulo:20191214T183000
DTEND;TZID=America/Sao_Paulo:20191214T213000
DTSTAMP:20260422T222508
CREATED:20191202T192110Z
LAST-MODIFIED:20191202T192110Z
UID:104484-1576348200-1576359000@blog.livrariadavila.com.br
SUMMARY:Escritas pela alma
DESCRIPTION:Esta obra é iniciada muito antes de ser repassada para as folhas de rascunho\, tudo se inicia através de uma simples conexão de expressão\, no observar das pessoas ao redor\, deparando com as diversidades e mistificações em que vivem\, exteriorizando o pensamento de que algumas pessoas estão destinadas a coincidir momentos vividos\, indagando o por que algumas precisam sonhar ou fabular alguma coisa para se manterem vivas. Escritas pela alma é a inspiração de muitos rotos esbarrados por acaso\, ideias transmitidas ao vento\, imagens passadas ao relento\, é se ouvir sem falar\, se ver sem se olhar\, é se arrepiar sem se tocar\, é ser tudo aquilo que sua mente permitir ser\, é um abordar mais profundo\, cujo objetivo é desmistificar um mundo de desigualdade\, é a expressão de um ou talvez de todos os amantes da imaginação. Com este livro terás a chance de vivenciar os sentimentos de um poeta e muitos outros desconhecidos que estão redescobrindo o melhor de si. \n  \nDe Caio Vinicius Camara Mota \nEd. Albatroz \n
URL:https://blog.livrariadavila.com.br/event/escritas-pela-alma/
CATEGORIES:LANÇAMENTOS,SESSÕES DE AUTÓGRAFOS
END:VEVENT
END:VCALENDAR