BEGIN:VCALENDAR
VERSION:2.0
PRODID:-//VILA - Blog - ECPv4.5.12.2//NONSGML v1.0//EN
CALSCALE:GREGORIAN
METHOD:PUBLISH
X-WR-CALNAME:VILA - Blog
X-ORIGINAL-URL:https://blog.livrariadavila.com.br
X-WR-CALDESC:Events for VILA - Blog
BEGIN:VEVENT
DTSTART;TZID=America/Sao_Paulo:20220407T180000
DTEND;TZID=America/Sao_Paulo:20220407T210000
DTSTAMP:20260423T085817
CREATED:20220328T161013Z
LAST-MODIFIED:20220406T180118Z
UID:113327-1649354400-1649365200@blog.livrariadavila.com.br
SUMMARY:SESSÃO DE AUTÓGRAFOS COM AUTORA DAY LIMNS - "ESTA NÃO É APENAS UMA CARTA DE AMOR"
DESCRIPTION: \n  \nCantora e compositora\, Day surgiu como um furacão\, com suas letras intensas\, temas fortes\, narrando fases da vida. Dona de uma coragem rara\, uma energia marcante\, frutos de sua vida sincera\, não esconde medos; generosa\, compartilha suas experiências nas canções porque acredita que com a arte é possível elevar a realidade para um lugar muito mais interessante. Cada capítulo deste livro começa com a letra de uma música de seu novo álbum\, o mais autobiográfico: um dos sonhos que vê realizados\, e que é muito\, mas muito mais do que apenas uma carta de amor. “Começo pedindo perdão a quem se encontrou em minha música\, mas se perdeu em meu texto. Desculpe\, mas tive que deixar o que há em mim fluir para expressar o meu big bang\, a explosão que transformou a menina que eu era na mulher que sou.” \n  \n
URL:https://blog.livrariadavila.com.br/event/esta-nao-e-apenas-uma-carta-de-amor/
LOCATION:R. Treze de Maio\, 1947 - Bela Vista\, São Paulo\, São Paulo\, 01327-900
CATEGORIES:SESSÕES DE AUTÓGRAFOS
END:VEVENT
END:VCALENDAR