BEGIN:VCALENDAR
VERSION:2.0
PRODID:-//VILA - Blog - ECPv4.5.12.2//NONSGML v1.0//EN
CALSCALE:GREGORIAN
METHOD:PUBLISH
X-WR-CALNAME:VILA - Blog
X-ORIGINAL-URL:https://blog.livrariadavila.com.br
X-WR-CALDESC:Events for VILA - Blog
BEGIN:VEVENT
DTSTART;TZID=America/Sao_Paulo:20181128T183000
DTEND;TZID=America/Sao_Paulo:20181128T213000
DTSTAMP:20260420T212928
CREATED:20181015T175608Z
LAST-MODIFIED:20181015T175608Z
UID:23025-1543429800-1543440600@blog.livrariadavila.com.br
SUMMARY:Estudos de direito constitucional e Temas de direito público
DESCRIPTION: Este livro reúne alguns de seus estudos da última década\, divididos em duas partes. Na primeira\, trata de assuntos ligados ao constitucionalismo e à democracia\, ao discurso penal e aos órgãos da mídia (que foi tema de sua dissertação de mestrado)\, e ao direito tributário. \n  \n  \n  \n  \n  \n  \n  \n  \n Considerando que desde a graduação o autor se dedica ao estudo sobre variados temas ligados ao Direito Constitucional\, inclusive tendo participado de cursos de pós-graduações e especializações\, tanto no Brasil como também no exterior\, nesse livro\, ele seleciona Estudos de Direito Constitucional que foram escritos na última década e meia\, a partir de algumas importantes modificações perpetradas pela Reforma do Poder Judiciário\, com foco específico na jurisdição constitucional e na proteção dos direitos e garantias individuais e fundamentais\, geralmente publicados em prestigiosos periódicos especializado. \nDe Fábio Martins de Andrade \nEd. Lumen Juris \n  \n
URL:https://blog.livrariadavila.com.br/event/estudos-de-direito-constitucional-e-temas-de-direito-publico/
CATEGORIES:LANÇAMENTOS,SESSÕES DE AUTÓGRAFOS
END:VEVENT
END:VCALENDAR