BEGIN:VCALENDAR
VERSION:2.0
PRODID:-//VILA - Blog - ECPv4.5.12.2//NONSGML v1.0//EN
CALSCALE:GREGORIAN
METHOD:PUBLISH
X-WR-CALNAME:VILA - Blog
X-ORIGINAL-URL:https://blog.livrariadavila.com.br
X-WR-CALDESC:Events for VILA - Blog
BEGIN:VEVENT
DTSTART;TZID=America/Sao_Paulo:20191216T183000
DTEND;TZID=America/Sao_Paulo:20191216T213000
DTSTAMP:20260420T164331
CREATED:20191212T133434Z
LAST-MODIFIED:20191212T133434Z
UID:110228-1576521000-1576531800@blog.livrariadavila.com.br
SUMMARY:Estudos de tributação internacional - Vol 3
DESCRIPTION: \nO presente terceiro volume dos Estudos de Tributação Internacional vem em muito boa hora. Neste volume\, o leitor encontra artigos de autores muitíssimo qualificados sobre\, dentre outros temas: as relações entre as regras internacionais e as regras brasileiras de preços de transferência; as normas antielisão aplicáveis relativamente aos tratados brasileiros contra a dupla tributação e sua revisão no contexto do Projeto BEPS; temas relevantes para a compreensão do que ocorre no Direito Tributário Internacional\, como os casos europeus sobre auxílios de Estado\, a reforma tributária dos Estados Unidos e as novas diretivas da União Europeia; a tributação da economia digital; e as regras brasileiras de tributação em Bases Universais e suas relações com as regras e práticas internacionais. \n  \nDe vários autores \nEd. Lumen Juris \n
URL:https://blog.livrariadavila.com.br/event/estudos-de-tributacao-internacional-vol-3/
LOCATION:Av. Juscelino Kubitschek\, 2041 - Itaim Bibi\, São Paulo\, São Paulo\, 04543-011\, Brasil
GEO:-23.5914219;-46.6898224
X-APPLE-STRUCTURED-LOCATION;VALUE=URI;X-ADDRESS=Av. Juscelino Kubitschek 2041 - Itaim Bibi São Paulo São Paulo 04543-011 Brasil;X-APPLE-RADIUS=500;X-TITLE=Av. Juscelino Kubitschek\, 2041 - Itaim Bibi:geo:-46.6898224,-23.5914219
CATEGORIES:LANÇAMENTOS,SESSÕES DE AUTÓGRAFOS
END:VEVENT
END:VCALENDAR