BEGIN:VCALENDAR
VERSION:2.0
PRODID:-//VILA - Blog - ECPv4.5.12.2//NONSGML v1.0//EN
CALSCALE:GREGORIAN
METHOD:PUBLISH
X-WR-CALNAME:VILA - Blog
X-ORIGINAL-URL:https://blog.livrariadavila.com.br
X-WR-CALDESC:Events for VILA - Blog
BEGIN:VEVENT
DTSTART;TZID=America/Sao_Paulo:20221208T180000
DTEND;TZID=America/Sao_Paulo:20221208T210000
DTSTAMP:20260422T210036
CREATED:20221110T184016Z
LAST-MODIFIED:20221110T184016Z
UID:115987-1670522400-1670533200@blog.livrariadavila.com.br
SUMMARY:EXECUÇÃO DIFERIDA NOS CONTRATOS DE M&A E REDES CONTRATUAIS NO DIREITO BRASILEIRO - FERNANDA MYNARSKI MARTINS E FERNANDO GEMELLI EICK - ED. ALMEDINA
DESCRIPTION: \n  \nO trabalho ora publicado origina-se de tese de doutorado apresentada à Faculdade de Direito da Universidade de São Paulo\, defendida e aprovada em 2021. Na presente obra pretende-se analisar o período intercalar entre o signing (assinatura) e o closing (fechamento) em contratos de Merger & Acquisitions com fechamento diferido. São abordadas as principais questões envolvendo a interação das seções de cláusulas mais comuns nos contratos de M&A: condições precedentes (‘conditions precedents’)\, obrigações de fazer e não-fazer antecedentes ao fechamento (‘covenants prior to closing’) declarações e garantias (‘representations and warranties’)\, cláusulas de evento e/ou mudanças depreciativas (‘material adverse change or event’) e opção de compra e venda de ações\, atentando-se a definir\, com precisão\, o regime jurídico a ser aplicado neste particular período contratual. Além da perspectiva comprador-vendedor\, o trabalho aborda as relações societárias que se desenvolvem na sociedade-alvo durante o período intercalar\, a saber\, o direito de voto\, a influência do comprador na sociedade-alvo e os deveres dos administradores. \n  \n \n  \nO livro é resultado de pesquisa desenvolvida pelo autor durante o seu mestrado na Universidade de São Paulo\, que contou com período de pesquisa no Max-Planck-Institut für Privatrecht\, na Alemanha. A obra aborda as redes contratuais\, que são cada vez mais observadas nas relações comerciais\, já que maximizam e aprimoram a produção e a oferta de bens e serviços\, ao mesmo tempo em que reduzem custos e riscos aos seus integrantes. Discorre-se sobre características\, fundamentos\, espécies\, figuras afins\, bem como sobre exemplos de redes contratuais. O livro dedica especial atenção às consequências da aplicação das redes contratuais no que concerne\, em especial\, à interpretação dos contratos\, aos deveres que surgem em função da rede\, bem como à eventual comunicação de invalidades e de ineficácias. O trabalho traz uma vasta pesquisa doutrinária sobre as redes contratuais em outras legislações mundo afora\, ao mesmo tempo em que realiza profunda pesquisa jurisprudencial em solo nacional. \n
URL:https://blog.livrariadavila.com.br/event/execucao-diferida-nos-contratos-de-ma-e-redes-contratuais-no-direito-brasileiro-fernanda-mynarski-martins-e-fernando-gemelli-eick-ed-almedina/
LOCATION:Av. Juscelino Kubitschek\, 2041 - Itaim Bibi\, São Paulo\, São Paulo\, 04543-011\, Brasil
GEO:-23.5914219;-46.6898224
X-APPLE-STRUCTURED-LOCATION;VALUE=URI;X-ADDRESS=Av. Juscelino Kubitschek 2041 - Itaim Bibi São Paulo São Paulo 04543-011 Brasil;X-APPLE-RADIUS=500;X-TITLE=Av. Juscelino Kubitschek\, 2041 - Itaim Bibi:geo:-46.6898224,-23.5914219
END:VEVENT
END:VCALENDAR