BEGIN:VCALENDAR
VERSION:2.0
PRODID:-//VILA - Blog - ECPv4.5.12.2//NONSGML v1.0//EN
CALSCALE:GREGORIAN
METHOD:PUBLISH
X-WR-CALNAME:VILA - Blog
X-ORIGINAL-URL:https://blog.livrariadavila.com.br
X-WR-CALDESC:Events for VILA - Blog
BEGIN:VEVENT
DTSTART;TZID=America/Sao_Paulo:20181030T183000
DTEND;TZID=America/Sao_Paulo:20181030T213000
DTSTAMP:20260420T182421
CREATED:20181010T164842Z
LAST-MODIFIED:20181010T164842Z
UID:22946-1540924200-1540935000@blog.livrariadavila.com.br
SUMMARY:Execução penal no Brasil – estudos e reflexões
DESCRIPTION: \nO objetivo desta obra é comentar\, integralmente\, o conteúdo da Lei de Execução Penal\, colocada em confronto com o projeto de lei em trâmite no Congresso Nacional\, que visa à sua modificação. Das reflexões extraídas das aulas e dos encontros do Grupo de Estudos da PUC-SP\, conforme o programa de pós-graduação de mestrado\, bem como atrelados à linha de pesquisa científica\, emergem os estudos de execução penal. Os capítulos desta obra correspondem aos títulos da Lei de Execução Penal\, apresentando a realidade existente e o confronto com o projeto de lei em andamento no Poder Legislativo. \nDe Guilherme Nucci \nEd. Gen. \n
URL:https://blog.livrariadavila.com.br/event/execucao-penal-no-brasil-estudos-e-reflexoes/
CATEGORIES:LANÇAMENTOS,SESSÕES DE AUTÓGRAFOS
END:VEVENT
END:VCALENDAR