BEGIN:VCALENDAR
VERSION:2.0
PRODID:-//VILA - Blog - ECPv4.5.12.2//NONSGML v1.0//EN
CALSCALE:GREGORIAN
METHOD:PUBLISH
X-WR-CALNAME:VILA - Blog
X-ORIGINAL-URL:https://blog.livrariadavila.com.br
X-WR-CALDESC:Events for VILA - Blog
BEGIN:VEVENT
DTSTART;TZID=America/Sao_Paulo:20191217T183000
DTEND;TZID=America/Sao_Paulo:20191217T213000
DTSTAMP:20260420T195136
CREATED:20191211T171206Z
LAST-MODIFIED:20191211T171206Z
UID:109806-1576607400-1576618200@blog.livrariadavila.com.br
SUMMARY:Facetas do direito tributário
DESCRIPTION:De Fernando A. Gonçalves Saraiva e Lucia Vidigal Zimmermann \nEd. LTR \n
URL:https://blog.livrariadavila.com.br/event/facetas-do-direito-tributario/
CATEGORIES:LANÇAMENTOS,SESSÕES DE AUTÓGRAFOS
END:VEVENT
END:VCALENDAR