BEGIN:VCALENDAR
VERSION:2.0
PRODID:-//VILA - Blog - ECPv4.5.12.2//NONSGML v1.0//EN
CALSCALE:GREGORIAN
METHOD:PUBLISH
X-WR-CALNAME:VILA - Blog
X-ORIGINAL-URL:https://blog.livrariadavila.com.br
X-WR-CALDESC:Events for VILA - Blog
BEGIN:VEVENT
DTSTART;TZID=America/Sao_Paulo:20181022T183000
DTEND;TZID=America/Sao_Paulo:20181022T213000
DTSTAMP:20260420T195604
CREATED:20181010T164520Z
LAST-MODIFIED:20181010T164520Z
UID:22943-1540233000-1540243800@blog.livrariadavila.com.br
SUMMARY:Fake News - a conexão entre a desinformação e o direito
DESCRIPTION:A obra reúne textos de profissionais da área jurídica e de professores com reconhecida excelência e experiência no Direito\, na Computação\, no Jornalismo e na Ciência Política. \nDe Diogo Rais  \nEd. Revista dos Tribunais \n
URL:https://blog.livrariadavila.com.br/event/fake-news-a-conexao-entre-a-desinformacao-e-o-direito/
CATEGORIES:LANÇAMENTOS,SESSÕES DE AUTÓGRAFOS
END:VEVENT
END:VCALENDAR