BEGIN:VCALENDAR
VERSION:2.0
PRODID:-//VILA - Blog - ECPv4.5.12.2//NONSGML v1.0//EN
CALSCALE:GREGORIAN
METHOD:PUBLISH
X-WR-CALNAME:VILA - Blog
X-ORIGINAL-URL:https://blog.livrariadavila.com.br
X-WR-CALDESC:Events for VILA - Blog
BEGIN:VEVENT
DTSTART;TZID=America/Sao_Paulo:20221104T190000
DTEND;TZID=America/Sao_Paulo:20221104T210000
DTSTAMP:20260421T202531
CREATED:20221021T153746Z
LAST-MODIFIED:20221021T153746Z
UID:115747-1667588400-1667595600@blog.livrariadavila.com.br
SUMMARY:FAMÍLIA 4.0 - CELIA CAIUBY - ED. RT
DESCRIPTION: \n  \nO fio condutor da presente obra refere-se aos desafios vivenciados pelos operadores do Direito de Família e das Sucessões em decorrência dos avanços sociais e tecnológicos que não são acompanhados pela regulação normativa. Os relacionamentos\, dinâmicos por natureza\, foram ainda mais acelerados pela adesão em massa ao ambiente virtual ocasionada pelo isolamento social decorrente da pandemia da Covid-19. A era da conectividade e avanços tecnológicos exponenciais que o século XXI experimenta se reflete nos relacionamentos\, assim como na formação de vínculos afetivos\, familiares\, e também nas repercussões jurídicas advindas dessa nova gama de possibilidades proporcionadas pela realidade 4.0. E com o Direito de Família não poderia ser diferente. \n
URL:https://blog.livrariadavila.com.br/event/familia-4-0-celia-caiuby-ed-rt/
LOCATION:Av. Rebouças\, 3970 Piso 1 - Pinheiros\, São Paulo\, São Paulo\, 05402-600
END:VEVENT
END:VCALENDAR