BEGIN:VCALENDAR
VERSION:2.0
PRODID:-//VILA - Blog - ECPv4.5.12.2//NONSGML v1.0//EN
CALSCALE:GREGORIAN
METHOD:PUBLISH
X-WR-CALNAME:VILA - Blog
X-ORIGINAL-URL:https://blog.livrariadavila.com.br
X-WR-CALDESC:Events for VILA - Blog
BEGIN:VEVENT
DTSTART;TZID=America/Sao_Paulo:20181031T183000
DTEND;TZID=America/Sao_Paulo:20181031T213000
DTSTAMP:20260421T071728
CREATED:20181008T190310Z
LAST-MODIFIED:20181008T190310Z
UID:22911-1541010600-1541021400@blog.livrariadavila.com.br
SUMMARY:Família\, Amores\, Amigos e outros usos do Prozac
DESCRIPTION: Prozac serve para curar a depressão… não para Neto… atrapalha a sua criatividade… O sarcasmo fica mais distante…gostar das coisas e achar tudo bonito\, serve para Pollyana\, não para o Neto. \nDe Mentor Muniz Neto  \nEd. Realejo \n  \n
URL:https://blog.livrariadavila.com.br/event/familia-amores-amigos-e-outros-usos-do-prozac/
LOCATION:Rua Fradique Coutinho\, 915 - Pinheiros\, São Paulo\, São Paulo\, 05416-011\, Brasil
GEO:-23.5592934;-46.6892019
X-APPLE-STRUCTURED-LOCATION;VALUE=URI;X-ADDRESS=Rua Fradique Coutinho 915 - Pinheiros São Paulo São Paulo 05416-011 Brasil;X-APPLE-RADIUS=500;X-TITLE=Rua Fradique Coutinho\, 915 - Pinheiros:geo:-46.6892019,-23.5592934
CATEGORIES:LANÇAMENTOS,SESSÕES DE AUTÓGRAFOS
END:VEVENT
END:VCALENDAR