BEGIN:VCALENDAR
VERSION:2.0
PRODID:-//VILA - Blog - ECPv4.5.12.2//NONSGML v1.0//EN
CALSCALE:GREGORIAN
METHOD:PUBLISH
X-WR-CALNAME:VILA - Blog
X-ORIGINAL-URL:https://blog.livrariadavila.com.br
X-WR-CALDESC:Events for VILA - Blog
BEGIN:VEVENT
DTSTART;TZID=America/Sao_Paulo:20181201T150000
DTEND;TZID=America/Sao_Paulo:20181201T180000
DTSTAMP:20260420T161727
CREATED:20181122T191214Z
LAST-MODIFIED:20181122T193121Z
UID:23592-1543676400-1543687200@blog.livrariadavila.com.br
SUMMARY:Abraço à sombra - Encontros que acolhem e iluminam a infância espiritual
DESCRIPTION:  \nDe Daniela Migliari \nIlustrações: Pedro Sangeon \nEd. Trampolim \nNossas sombras não são o oposto da luz. Elas fazem parte de todos nós.\nNeste livro\, Daniela Migliari apresenta uma nova forma de lidar com nossos erros e fracassos\, seus aspectos incômodos – como o desconforto e o sentimento de culpa –\, enxergando\, também\, os potenciais que neles existem.\nUma proposta aberta para que você trate a si mesmo com gentileza e compreenda sua infância espiritual – estado psíquico que precisa de autoacolhimento para amadurecer.\nAbra-se à possibilidade de entrar em contato consigo mesmo e\, quem sabe\, encontrar sua própria forma de evoluir com mais generosidade\, gratidão e autoAmor. \n
URL:https://blog.livrariadavila.com.br/event/fazendo-a-inovacao-acontecer/
CATEGORIES:LANÇAMENTOS,SESSÕES DE AUTÓGRAFOS
END:VEVENT
END:VCALENDAR