BEGIN:VCALENDAR
VERSION:2.0
PRODID:-//VILA - Blog - ECPv4.5.12.2//NONSGML v1.0//EN
CALSCALE:GREGORIAN
METHOD:PUBLISH
X-WR-CALNAME:VILA - Blog
X-ORIGINAL-URL:https://blog.livrariadavila.com.br
X-WR-CALDESC:Events for VILA - Blog
BEGIN:VEVENT
DTSTART;TZID=America/Sao_Paulo:20190112T160000
DTEND;TZID=America/Sao_Paulo:20190112T170000
DTSTAMP:20260421T030646
CREATED:20190104T140724Z
LAST-MODIFIED:20190107T165907Z
UID:71733-1547308800-1547312400@blog.livrariadavila.com.br
SUMMARY:FÉRIAS NA VILA - A volta de Mary Poppins
DESCRIPTION: Contação de Histórias: A volta de Mary Poppins \nCom Daniela Fioruci \nEd. Zahar \nIdade indicada: livre \n
URL:https://blog.livrariadavila.com.br/event/ferias-na-vila-a-volta-de-mary-poppins/
LOCATION:Avenida Ayrton Senna da Silva\, 400 – 2º piso\, Londrina\, Paraná\, 86050-460\, Brasil
CATEGORIES:ATIVIDADES INFANTIS,FÉRIAS NA VILA
END:VEVENT
END:VCALENDAR