BEGIN:VCALENDAR
VERSION:2.0
PRODID:-//VILA - Blog - ECPv4.5.12.2//NONSGML v1.0//EN
CALSCALE:GREGORIAN
METHOD:PUBLISH
X-WR-CALNAME:VILA - Blog
X-ORIGINAL-URL:https://blog.livrariadavila.com.br
X-WR-CALDESC:Events for VILA - Blog
BEGIN:VEVENT
DTSTART;TZID=America/Sao_Paulo:20190113T160000
DTEND;TZID=America/Sao_Paulo:20190113T170000
DTSTAMP:20260422T054856
CREATED:20190104T150021Z
LAST-MODIFIED:20190104T150021Z
UID:72213-1547395200-1547398800@blog.livrariadavila.com.br
SUMMARY:FÉRIAS NA VILA - Abremente
DESCRIPTION:Venha para um eletrizante jogo\, responda as perguntas de sua idade e ganhe um prêmio! \nCom Planeta Vega \nEd. Catapulta \nIdade indicada: livre \n
URL:https://blog.livrariadavila.com.br/event/ferias-na-vila-abremente/
CATEGORIES:ATIVIDADES INFANTIS,FÉRIAS NA VILA
END:VEVENT
END:VCALENDAR