BEGIN:VCALENDAR
VERSION:2.0
PRODID:-//VILA - Blog - ECPv4.5.12.2//NONSGML v1.0//EN
CALSCALE:GREGORIAN
METHOD:PUBLISH
X-WR-CALNAME:VILA - Blog
X-ORIGINAL-URL:https://blog.livrariadavila.com.br
X-WR-CALDESC:Events for VILA - Blog
BEGIN:VEVENT
DTSTART;TZID=America/Sao_Paulo:20240721T150000
DTEND;TZID=America/Sao_Paulo:20240721T170000
DTSTAMP:20260421T044220
CREATED:20240715T211304Z
LAST-MODIFIED:20240715T211304Z
UID:123261-1721574000-1721581200@blog.livrariadavila.com.br
SUMMARY:FÉRIAS NA VILA - CONTAÇÃO DE HISTÓRIAS COM CHILICA - ED. CIRANDA CULTURAL
DESCRIPTION: \n
URL:https://blog.livrariadavila.com.br/event/ferias-na-vila-contacao-de-historias-com-chilica-ed-ciranda-cultural-2/
LOCATION:R. Treze de Maio\, 1947 - Bela Vista\, São Paulo\, São Paulo\, 01327-900
END:VEVENT
END:VCALENDAR