BEGIN:VCALENDAR
VERSION:2.0
PRODID:-//VILA - Blog - ECPv4.5.12.2//NONSGML v1.0//EN
CALSCALE:GREGORIAN
METHOD:PUBLISH
X-WR-CALNAME:VILA - Blog
X-ORIGINAL-URL:https://blog.livrariadavila.com.br
X-WR-CALDESC:Events for VILA - Blog
BEGIN:VEVENT
DTSTART;TZID=America/Sao_Paulo:20240720T150000
DTEND;TZID=America/Sao_Paulo:20240720T170000
DTSTAMP:20260423T003829
CREATED:20240718T131855Z
LAST-MODIFIED:20240718T131855Z
UID:123315-1721487600-1721494800@blog.livrariadavila.com.br
SUMMARY:FÉRIAS NA VILA - CONTAÇÃO DE HISTÓRIAS COM CIA SÓPAPO - ED. ON LINE
DESCRIPTION: \n
URL:https://blog.livrariadavila.com.br/event/ferias-na-vila-contacao-de-historias-com-cia-sopapo-ed-on-line/
LOCATION:Av. Rebouças\, 3970 Piso 1 - Pinheiros\, São Paulo\, São Paulo\, 05402-600
END:VEVENT
END:VCALENDAR