BEGIN:VCALENDAR
VERSION:2.0
PRODID:-//VILA - Blog - ECPv4.5.12.2//NONSGML v1.0//EN
CALSCALE:GREGORIAN
METHOD:PUBLISH
X-WR-CALNAME:VILA - Blog
X-ORIGINAL-URL:https://blog.livrariadavila.com.br
X-WR-CALDESC:Events for VILA - Blog
BEGIN:VEVENT
DTSTART;TZID=America/Sao_Paulo:20240727T143000
DTEND;TZID=America/Sao_Paulo:20240727T163000
DTSTAMP:20260421T024616
CREATED:20240724T125640Z
LAST-MODIFIED:20240725T211103Z
UID:123406-1722090600-1722097800@blog.livrariadavila.com.br
SUMMARY:FÉRIAS NA VILA - CONTAÇÃO DE HISTÓRIAS COM MARCOS SEIXAS - ED. ASTRAL CULTURAL
DESCRIPTION: \n
URL:https://blog.livrariadavila.com.br/event/ferias-na-vila-contacao-de-historias-com-marcos-seixas-ed-astral-cultural-2/
LOCATION:Av. Rebouças\, 3970 Piso 1 - Pinheiros\, São Paulo\, São Paulo\, 05402-600
END:VEVENT
END:VCALENDAR