BEGIN:VCALENDAR
VERSION:2.0
PRODID:-//VILA - Blog - ECPv4.5.12.2//NONSGML v1.0//EN
CALSCALE:GREGORIAN
METHOD:PUBLISH
X-WR-CALNAME:VILA - Blog
X-ORIGINAL-URL:https://blog.livrariadavila.com.br
X-WR-CALDESC:Events for VILA - Blog
BEGIN:VEVENT
DTSTART;TZID=America/Sao_Paulo:20240727T150000
DTEND;TZID=America/Sao_Paulo:20240727T170000
DTSTAMP:20260421T072646
CREATED:20240724T131349Z
LAST-MODIFIED:20240724T131349Z
UID:123415-1722092400-1722099600@blog.livrariadavila.com.br
SUMMARY:FÉRIAS NA VILA – CONTAÇÃO DE HISTÓRIAS COM MICHELE E ROSANE – GRUPO SIMPIRIRIIMM E APRENDA A DESENHAR MANGÁ – ED. HAPPY BOOKS
DESCRIPTION: \n
URL:https://blog.livrariadavila.com.br/event/ferias-na-vila-contacao-de-historias-com-michele-e-rosane-grupo-simpiririimm-e-aprenda-a-desenhar-manga-ed-happy-books-6/
LOCATION:Avenida Paulista\, 1230\, São Paulo\, São Paulo\, 01310-100\, Brasil
END:VEVENT
END:VCALENDAR