BEGIN:VCALENDAR
VERSION:2.0
PRODID:-//VILA - Blog - ECPv4.5.12.2//NONSGML v1.0//EN
CALSCALE:GREGORIAN
METHOD:PUBLISH
X-WR-CALNAME:VILA - Blog
X-ORIGINAL-URL:https://blog.livrariadavila.com.br
X-WR-CALDESC:Events for VILA - Blog
BEGIN:VEVENT
DTSTART;TZID=America/Sao_Paulo:20190118T160000
DTEND;TZID=America/Sao_Paulo:20190118T170000
DTSTAMP:20260422T193026
CREATED:20190104T154328Z
LAST-MODIFIED:20190104T154328Z
UID:72727-1547827200-1547830800@blog.livrariadavila.com.br
SUMMARY:FÉRIAS NA VILA - Contação de Histórias: O segredo do rei\, A vaca que botou um ovo e Cabrito\, Cabritões
DESCRIPTION: Com Carlos Sereno \nApoio: Viva e Deixe Viver \nIdade indicada: livre \n
URL:https://blog.livrariadavila.com.br/event/ferias-na-vila-contacao-de-historias-o-segredo-do-rei-a-vaca-que-botou-um-ovo-e-cabrito-cabritoes-2/
LOCATION:Rua Fradique Coutinho\, 915 - Pinheiros\, São Paulo\, São Paulo\, 05416-011\, Brasil
GEO:-23.5592934;-46.6892019
X-APPLE-STRUCTURED-LOCATION;VALUE=URI;X-ADDRESS=Rua Fradique Coutinho 915 - Pinheiros São Paulo São Paulo 05416-011 Brasil;X-APPLE-RADIUS=500;X-TITLE=Rua Fradique Coutinho\, 915 - Pinheiros:geo:-46.6892019,-23.5592934
CATEGORIES:ATIVIDADES INFANTIS,FÉRIAS NA VILA
END:VEVENT
END:VCALENDAR