BEGIN:VCALENDAR
VERSION:2.0
PRODID:-//VILA - Blog - ECPv4.5.12.2//NONSGML v1.0//EN
CALSCALE:GREGORIAN
METHOD:PUBLISH
X-WR-CALNAME:VILA - Blog
X-ORIGINAL-URL:https://blog.livrariadavila.com.br
X-WR-CALDESC:Events for VILA - Blog
BEGIN:VEVENT
DTSTART;TZID=America/Sao_Paulo:20190111T160000
DTEND;TZID=America/Sao_Paulo:20190111T170000
DTSTAMP:20260422T025951
CREATED:20190104T145723Z
LAST-MODIFIED:20190104T145723Z
UID:72158-1547222400-1547226000@blog.livrariadavila.com.br
SUMMARY:FÉRIAS NA VILA - Contação de Histórias: O segredo do rei\, A vaca que botou um ovo e Cabrito\, Cabritões
DESCRIPTION: \nCom Carlos Sereno \nApoio: Viva e Deixe Viver \nIdade indicada: a partir de 5 anos \n
URL:https://blog.livrariadavila.com.br/event/ferias-na-vila-contacao-de-historias-o-segredo-do-rei-a-vaca-que-botou-um-ovo-e-cabrito-cabritoes/
CATEGORIES:ATIVIDADES INFANTIS,FÉRIAS NA VILA
END:VEVENT
END:VCALENDAR