BEGIN:VCALENDAR
VERSION:2.0
PRODID:-//VILA - Blog - ECPv4.5.12.2//NONSGML v1.0//EN
CALSCALE:GREGORIAN
METHOD:PUBLISH
X-WR-CALNAME:VILA - Blog
X-ORIGINAL-URL:https://blog.livrariadavila.com.br
X-WR-CALDESC:Events for VILA - Blog
BEGIN:VEVENT
DTSTART;TZID=America/Sao_Paulo:20190118T150000
DTEND;TZID=America/Sao_Paulo:20190118T160000
DTSTAMP:20260421T172346
CREATED:20190104T143431Z
LAST-MODIFIED:20190104T143431Z
UID:71953-1547823600-1547827200@blog.livrariadavila.com.br
SUMMARY:FÉRIAS NA VILA - Contação de Histórias: Zeca não tem medo de prova e Ane e Beto\, um novo caminho para a escola
DESCRIPTION: Com Vanessa Tavares \nEd. InVerso \nIdade indicada: Livre \n
URL:https://blog.livrariadavila.com.br/event/ferias-na-vila-contacao-de-historias-zeca-nao-tem-medo-de-prova-e-ane-e-beto-um-novo-caminho-para-a-escola/
LOCATION:Avenida do Batel\, nº 1868 – Loja 314 piso L3\, Curitiba\, Paraná\, 80420-090\, Brasil
GEO:-25.443012;-49.2899507
X-APPLE-STRUCTURED-LOCATION;VALUE=URI;X-ADDRESS=Avenida do Batel nº 1868 – Loja 314 piso L3 Curitiba Paraná 80420-090 Brasil;X-APPLE-RADIUS=500;X-TITLE=Avenida do Batel\, nº 1868 – Loja 314 piso L3:geo:-49.2899507,-25.443012
CATEGORIES:ATIVIDADES INFANTIS,FÉRIAS NA VILA
END:VEVENT
END:VCALENDAR