BEGIN:VCALENDAR
VERSION:2.0
PRODID:-//VILA - Blog - ECPv4.5.12.2//NONSGML v1.0//EN
CALSCALE:GREGORIAN
METHOD:PUBLISH
X-WR-CALNAME:VILA - Blog
X-ORIGINAL-URL:https://blog.livrariadavila.com.br
X-WR-CALDESC:Events for VILA - Blog
BEGIN:VEVENT
DTSTART;TZID=America/Sao_Paulo:20190112T160000
DTEND;TZID=America/Sao_Paulo:20190112T170000
DTSTAMP:20260422T161028
CREATED:20190104T152140Z
LAST-MODIFIED:20190104T152140Z
UID:72485-1547308800-1547312400@blog.livrariadavila.com.br
SUMMARY:FÉRIAS NA VILA - Desenhos e Contação de Histórias: Saci cadê o numero que estava aqui?\, Cuca qual e a cor da sua toca?  e Curupira e a floresta das letras
DESCRIPTION: Com Laurabeatriz e Lalau \nEd. Estrela Cultural \nIdade indicada: livre \n
URL:https://blog.livrariadavila.com.br/event/ferias-na-vila-desenhos-e-contacao-de-historias-saci-cade-o-numero-que-estava-aqui-cuca-qual-e-a-cor-da-sua-toca-e-curupira-e-a-floresta-das-letras/
LOCATION:Rua Fradique Coutinho\, 915 - Pinheiros\, São Paulo\, São Paulo\, 05416-011\, Brasil
GEO:-23.5592934;-46.6892019
X-APPLE-STRUCTURED-LOCATION;VALUE=URI;X-ADDRESS=Rua Fradique Coutinho 915 - Pinheiros São Paulo São Paulo 05416-011 Brasil;X-APPLE-RADIUS=500;X-TITLE=Rua Fradique Coutinho\, 915 - Pinheiros:geo:-46.6892019,-23.5592934
CATEGORIES:ATIVIDADES INFANTIS,FÉRIAS NA VILA
END:VEVENT
END:VCALENDAR