BEGIN:VCALENDAR
VERSION:2.0
PRODID:-//VILA - Blog - ECPv4.5.12.2//NONSGML v1.0//EN
CALSCALE:GREGORIAN
METHOD:PUBLISH
X-WR-CALNAME:VILA - Blog
X-ORIGINAL-URL:https://blog.livrariadavila.com.br
X-WR-CALDESC:Events for VILA - Blog
BEGIN:VEVENT
DTSTART;TZID=America/Sao_Paulo:20190111T160000
DTEND;TZID=America/Sao_Paulo:20190111T170000
DTSTAMP:20260421T014019
CREATED:20190104T140452Z
LAST-MODIFIED:20190104T140452Z
UID:71707-1547222400-1547226000@blog.livrariadavila.com.br
SUMMARY:FÉRIAS NA VILA - Let's get wild
DESCRIPTION: Teatro com interação das crianças\, máscaras de animais\, bingo e muita diversão na selva da Red Balloon! \nCom Clara Roland e Mariá Roland \nApoio: Red Balloon \nIdade indicada: de 3 a 8 anos \n
URL:https://blog.livrariadavila.com.br/event/ferias-na-vila-lets-get-wild/
LOCATION:Avenida Ayrton Senna da Silva\, 400 – 2º piso\, Londrina\, Paraná\, 86050-460\, Brasil
CATEGORIES:ATIVIDADES INFANTIS,FÉRIAS NA VILA
END:VEVENT
END:VCALENDAR