BEGIN:VCALENDAR
VERSION:2.0
PRODID:-//VILA - Blog - ECPv4.5.12.2//NONSGML v1.0//EN
CALSCALE:GREGORIAN
METHOD:PUBLISH
X-WR-CALNAME:VILA - Blog
X-ORIGINAL-URL:https://blog.livrariadavila.com.br
X-WR-CALDESC:Events for VILA - Blog
BEGIN:VEVENT
DTSTART;TZID=America/Sao_Paulo:20190118T120000
DTEND;TZID=America/Sao_Paulo:20190118T160000
DTSTAMP:20260422T092346
CREATED:20190104T150430Z
LAST-MODIFIED:20190104T150430Z
UID:72254-1547812800-1547827200@blog.livrariadavila.com.br
SUMMARY:FÉRIAS NA VILA - Oficina Compactor e Oficina Play Doh
DESCRIPTION: 12h às 13h – Oficina Play Doh     \nNesta oficina\, cada participante vai realizar uma supercolagem com tema “Férias”. \nCom Ateliê Maria Flor \nIdade indicada: livre \n  \n13h30 às 14h30 – Oficina Compactor \nNesta oficina\, cada participante vai realizar uma superpintura com o tema “Férias”. \nCom Ateliê Maria Flor \nIdade indicada: livre \n  \n15h às 16h – Oficina Play Doh \nNesta oficina\, as crianças vão soltar a imaginação e criar esculturas feitas com massinhas de modelar. \nCom Ateliê Maria Flor \nIdade indicada: livre \n
URL:https://blog.livrariadavila.com.br/event/ferias-na-vila-oficina-compactor-e-oficina-play-doh/
CATEGORIES:ATIVIDADES INFANTIS,FÉRIAS NA VILA
END:VEVENT
END:VCALENDAR