BEGIN:VCALENDAR
VERSION:2.0
PRODID:-//VILA - Blog - ECPv4.5.12.2//NONSGML v1.0//EN
CALSCALE:GREGORIAN
METHOD:PUBLISH
X-WR-CALNAME:VILA - Blog
X-ORIGINAL-URL:https://blog.livrariadavila.com.br
X-WR-CALDESC:Events for VILA - Blog
BEGIN:VEVENT
DTSTART;TZID=America/Sao_Paulo:20190120T160000
DTEND;TZID=America/Sao_Paulo:20190120T180000
DTSTAMP:20260422T110213
CREATED:20190104T150850Z
LAST-MODIFIED:20190104T150850Z
UID:72304-1548000000-1548007200@blog.livrariadavila.com.br
SUMMARY:FÉRIAS NA VILA - Oficina de Jogos: Quebra-cabeças gigantes e Jogos da memória
DESCRIPTION:Se você gosta de montar quebra-cabeças\, essa atividade é para você! Venha montar quebra-cabeças gigantes\, feitos com peças grandes e ilustrações incríveis da fauna e flora brasileiras: Floresta Amazônica\, Bichos do Pantanal\, Fadas na Mata Atlântica\, Folclore e Dia de Praia. \nCom Promotora Larissa \nApoio: Araquarela \nIdade indicada: 3 a 7 anos \n
URL:https://blog.livrariadavila.com.br/event/ferias-na-vila-oficina-de-jogos-quebra-cabecas-gigantes-e-jogos-da-memoria/
CATEGORIES:ATIVIDADES INFANTIS,FÉRIAS NA VILA
END:VEVENT
END:VCALENDAR