BEGIN:VCALENDAR
VERSION:2.0
PRODID:-//VILA - Blog - ECPv4.5.12.2//NONSGML v1.0//EN
CALSCALE:GREGORIAN
METHOD:PUBLISH
X-WR-CALNAME:VILA - Blog
X-ORIGINAL-URL:https://blog.livrariadavila.com.br
X-WR-CALDESC:Events for VILA - Blog
BEGIN:VEVENT
DTSTART;TZID=America/Sao_Paulo:20240726T150000
DTEND;TZID=America/Sao_Paulo:20240726T170000
DTSTAMP:20260419T182929
CREATED:20240724T143830Z
LAST-MODIFIED:20240724T143830Z
UID:123458-1722006000-1722013200@blog.livrariadavila.com.br
SUMMARY:FÉRIAS NA VILA – OFICINA DE PINTURA – STAEDTLER
DESCRIPTION: \n
URL:https://blog.livrariadavila.com.br/event/ferias-na-vila-oficina-de-pintura-staedtler-5/
LOCATION:Av. Juscelino Kubitschek\, 2041 - Itaim Bibi\, São Paulo\, São Paulo\, 04543-011\, Brasil
GEO:-23.5914219;-46.6898224
X-APPLE-STRUCTURED-LOCATION;VALUE=URI;X-ADDRESS=Av. Juscelino Kubitschek 2041 - Itaim Bibi São Paulo São Paulo 04543-011 Brasil;X-APPLE-RADIUS=500;X-TITLE=Av. Juscelino Kubitschek\, 2041 - Itaim Bibi:geo:-46.6898224,-23.5914219
END:VEVENT
END:VCALENDAR