BEGIN:VCALENDAR
VERSION:2.0
PRODID:-//VILA - Blog - ECPv4.5.12.2//NONSGML v1.0//EN
CALSCALE:GREGORIAN
METHOD:PUBLISH
X-WR-CALNAME:VILA - Blog
X-ORIGINAL-URL:https://blog.livrariadavila.com.br
X-WR-CALDESC:Events for VILA - Blog
BEGIN:VEVENT
DTSTART;TZID=America/Sao_Paulo:20190111T160000
DTEND;TZID=America/Sao_Paulo:20190111T170000
DTSTAMP:20260422T141711
CREATED:20190104T151847Z
LAST-MODIFIED:20190104T151847Z
UID:72371-1547222400-1547226000@blog.livrariadavila.com.br
SUMMARY:FÉRIAS NA VILA - Pocket Show: Trem de histórias – O show
DESCRIPTION:Histórias cantadas e canções para brincar! Mais que um show\, este é um projeto de ação educativa para ser apresentado\, tocado\, ouvido e cantado e que oferece sons\, cores\, formas\, sensações e brincadeiras. Um resgate das nossas memórias\, da nossa criança interior que veio brincar com a nossa imaginação. \nCom Maluah Produções \nIdade indicada: 3 a 11 anos \n
URL:https://blog.livrariadavila.com.br/event/ferias-na-vila-pocket-show-trem-de-historias-o-show/
LOCATION:Rua Fradique Coutinho\, 915 - Pinheiros\, São Paulo\, São Paulo\, 05416-011\, Brasil
GEO:-23.5592934;-46.6892019
X-APPLE-STRUCTURED-LOCATION;VALUE=URI;X-ADDRESS=Rua Fradique Coutinho 915 - Pinheiros São Paulo São Paulo 05416-011 Brasil;X-APPLE-RADIUS=500;X-TITLE=Rua Fradique Coutinho\, 915 - Pinheiros:geo:-46.6892019,-23.5592934
CATEGORIES:ATIVIDADES INFANTIS,FÉRIAS NA VILA
END:VEVENT
END:VCALENDAR