BEGIN:VCALENDAR
VERSION:2.0
PRODID:-//VILA - Blog - ECPv4.5.12.2//NONSGML v1.0//EN
CALSCALE:GREGORIAN
METHOD:PUBLISH
X-WR-CALNAME:VILA - Blog
X-ORIGINAL-URL:https://blog.livrariadavila.com.br
X-WR-CALDESC:Events for VILA - Blog
BEGIN:VEVENT
DTSTART;TZID=America/Sao_Paulo:20190119T160000
DTEND;TZID=America/Sao_Paulo:20190119T170000
DTSTAMP:20260421T061604
CREATED:20190104T141120Z
LAST-MODIFIED:20190104T141120Z
UID:71761-1547913600-1547917200@blog.livrariadavila.com.br
SUMMARY:FÉRIAS NA VILA - Rainbow party
DESCRIPTION: Música\, brincadeiras\, experiências e muita diversão na festa colorida da Red Balloon! \nCom Clara Roland e Mariá Roland \nApoio: Red Balloon \nIdade indicada: de 3 a 8 anos \n
URL:https://blog.livrariadavila.com.br/event/ferias-na-vila-rainbow-party/
LOCATION:Avenida Ayrton Senna da Silva\, 400 – 2º piso\, Londrina\, Paraná\, 86050-460\, Brasil
CATEGORIES:ATIVIDADES INFANTIS,SESSÕES DE AUTÓGRAFOS
END:VEVENT
END:VCALENDAR