BEGIN:VCALENDAR
VERSION:2.0
PRODID:-//VILA - Blog - ECPv4.5.12.2//NONSGML v1.0//EN
CALSCALE:GREGORIAN
METHOD:PUBLISH
X-WR-CALNAME:VILA - Blog
X-ORIGINAL-URL:https://blog.livrariadavila.com.br
X-WR-CALDESC:Events for VILA - Blog
BEGIN:VEVENT
DTSTART;TZID=America/Sao_Paulo:20190423T183000
DTEND;TZID=America/Sao_Paulo:20190423T213000
DTSTAMP:20260421T104827
CREATED:20190328T141640Z
LAST-MODIFIED:20190328T141640Z
UID:95870-1556044200-1556055000@blog.livrariadavila.com.br
SUMMARY:Filosofia do cotidiano - um pequeno tratado sobre questões menores
DESCRIPTION:“Filosofar nunca foi sobre deixar você feliz. É que andam mentindo muito por aí. Filosofar está mais ligado ao despertar do sonambulismo. Essa é minha proposta nesta conversa com você.” \n“Seguiremos em direção a um mar profundo\, muito distante do que o senso comum assume que o mundo seja. O mundo não é um mar calmo de evidências. É um oceano cheio de pequenas tempestades a serem vencidas. O cotidiano nesse percurso não é a mera passagem das horas\, é o cotidiano contemporâneo\, permeado pelo caráter histórico desta época em que vivemos.” \n“Somos seres muitos mais acanhados em nossa natureza do que a aberração feliz postada nas redes sociais (e na publicidade em geral). Suspeito mesmo que a própria ideia de felicidade se tornou uma variável patogênica em si.” \n“Quem tem medo de sofrer é incapaz de desejar.” \n“Leitura é um hábito anormal\, se ‘normal’ for ser igual à maioria.” \n“A obsessão pela felicidade faz de você um chato. Como escapar dessa armadilha? Escolher o fracasso? Não precisa\, ele te achará. Viver sem fórmulas é o desafio.” \nDe Luiz Felipe Pondé \nEd. Contexto \n
URL:https://blog.livrariadavila.com.br/event/filosofia-do-cotidiano-um-pequeno-tratado-sobre-questoes-menores/
LOCATION:Rua Fradique Coutinho\, 915 - Pinheiros\, São Paulo\, São Paulo\, 05416-011\, Brasil
GEO:-23.5592934;-46.6892019
X-APPLE-STRUCTURED-LOCATION;VALUE=URI;X-ADDRESS=Rua Fradique Coutinho 915 - Pinheiros São Paulo São Paulo 05416-011 Brasil;X-APPLE-RADIUS=500;X-TITLE=Rua Fradique Coutinho\, 915 - Pinheiros:geo:-46.6892019,-23.5592934
CATEGORIES:LANÇAMENTOS,SESSÕES DE AUTÓGRAFOS
END:VEVENT
END:VCALENDAR