BEGIN:VCALENDAR
VERSION:2.0
PRODID:-//VILA - Blog - ECPv4.5.12.2//NONSGML v1.0//EN
CALSCALE:GREGORIAN
METHOD:PUBLISH
X-WR-CALNAME:VILA - Blog
X-ORIGINAL-URL:https://blog.livrariadavila.com.br
X-WR-CALDESC:Events for VILA - Blog
BEGIN:VEVENT
DTSTART;TZID=America/Sao_Paulo:20190328T183000
DTEND;TZID=America/Sao_Paulo:20190328T213000
DTSTAMP:20260419T232301
CREATED:20190322T190428Z
LAST-MODIFIED:20190322T190428Z
UID:95718-1553797800-1553808600@blog.livrariadavila.com.br
SUMMARY:Filosofia do Direito - diálogos globais\, temas polêmicos e desafios da justiça
DESCRIPTION: De Eduardo C. B. Bittar  (Coord.) \nEd. Quartier Latin \n
URL:https://blog.livrariadavila.com.br/event/filosofia-do-direito-dialogos-globais-temas-polemicos-e-desafios-da-justica/
CATEGORIES:LANÇAMENTOS,SESSÕES DE AUTÓGRAFOS
END:VEVENT
END:VCALENDAR