BEGIN:VCALENDAR
VERSION:2.0
PRODID:-//VILA - Blog - ECPv4.5.12.2//NONSGML v1.0//EN
CALSCALE:GREGORIAN
METHOD:PUBLISH
X-WR-CALNAME:VILA - Blog
X-ORIGINAL-URL:https://blog.livrariadavila.com.br
X-WR-CALDESC:Events for VILA - Blog
BEGIN:VEVENT
DTSTART;TZID=America/Sao_Paulo:20231002T190000
DTEND;TZID=America/Sao_Paulo:20231002T213000
DTSTAMP:20260421T051552
CREATED:20230925T165655Z
LAST-MODIFIED:20230925T165655Z
UID:119571-1696273200-1696282200@blog.livrariadavila.com.br
SUMMARY:FRAGMENTOS CLÍNICOS DE PSICANÁLISE E VISITA ÀS CASAS DE FREUD E OUTRAS VIAGENS - SÉRGIO TELLES – ED. BLUCHER
DESCRIPTION: \n  \n\n\n\n\nSérgio Telles\, um analista que já recebeu vários prêmios por sua produção ficcional\, neste Fragmentos clínicos de psicanálise\, apresenta vinte sessões comentadas\, às quais se acrescentam dois substanciosos capítulos argumentativos\, sobre os referenciais teóricos da escuta e sobre a delicada questão de como proteger a privacidade dos pacientes a quem nos referimos em um escrito clínico. É um prazer acompanhar o autor nessas reflexões\, como que espiando por cima de seu ombro enquanto pensa\, interpreta\, constrói e revisa suas formulações. O amplo conhecimento da obra de Freud\, Melanie Klein\, Lacan\, Winnicott e outros autores se soma aqui a uma refinada sensibilidade e um vasto repertório de cultura geral; além disso\, a habilidade na exposição e um agudo senso das proporções – evitando o cacoete tão presente nesse tipo de texto\, de sobrecarregá-lo com informações inúteis para a compreensão do argumento – tornam convincente o pensamento de Sérgio Telles\, consistentes os personagens de suas narrativas e sólidas as construções que apresenta. Renato Mezan\n\n\n\n\n\n\n\n\n\n\nDono de invejável cultura\, acuidade de raciocínio e sensibilidade crítica\, Sérgio Telles revela uma capacidade inquietante de viajar\, como um nômade\, pela escritura da psicanálise e pela produção artística. Um errante: entra e sai do estranho país freudiano\, trazendo sempre uma perspectiva de fora de criadores consagrados\, como Van Gogh\, Tchekhov\, Maupassant\, Machado de Assis\, Spencer Tunick\, Munch\, Santa Teresa d’Ávila\, Guimarães Rosa e Paul e Jane Bowles. Mas não para por aí: a consciência de que todo analista é também um crítico da cultura que testemunha faz com que Telles agregue à série de ensaios que compõem o livro alguns textos sobre o mal-estar na civilização. Betty Fuks\n\n\n\n\n\n\n\n
URL:https://blog.livrariadavila.com.br/event/fragmentos-clinicos-de-psicanalise-e-visita-as-casas-de-freud-e-outras-viagens-sergio-telles-ed-blucher/
LOCATION:Rua Fradique Coutinho\, 915 - Pinheiros\, São Paulo\, São Paulo\, 05416-011\, Brasil
GEO:-23.5592934;-46.6892019
X-APPLE-STRUCTURED-LOCATION;VALUE=URI;X-ADDRESS=Rua Fradique Coutinho 915 - Pinheiros São Paulo São Paulo 05416-011 Brasil;X-APPLE-RADIUS=500;X-TITLE=Rua Fradique Coutinho\, 915 - Pinheiros:geo:-46.6892019,-23.5592934
END:VEVENT
END:VCALENDAR