BEGIN:VCALENDAR
VERSION:2.0
PRODID:-//VILA - Blog - ECPv4.5.12.2//NONSGML v1.0//EN
CALSCALE:GREGORIAN
METHOD:PUBLISH
X-WR-CALNAME:VILA - Blog
X-ORIGINAL-URL:https://blog.livrariadavila.com.br
X-WR-CALDESC:Events for VILA - Blog
BEGIN:VEVENT
DTSTART;TZID=America/Sao_Paulo:20191021T183000
DTEND;TZID=America/Sao_Paulo:20191021T213000
DTSTAMP:20260421T023009
CREATED:20191003T161923Z
LAST-MODIFIED:20191003T161923Z
UID:99624-1571682600-1571693400@blog.livrariadavila.com.br
SUMMARY:Fundamentos da responsabilidade do Estado em matéria tributária
DESCRIPTION: \nCom inédita abordagem\, a Autora discorre sobre o dever de o Estado responder patrimonialmente por danos causados aos contribuintes no exercício de condutas de conteúdo tributário e\, consequentemente\, de balizar os termos pelos quais pode ser aplicada referida responsabilidade. \n  \nDe Josiane Becker \nEd. Noeses \n
URL:https://blog.livrariadavila.com.br/event/fundamentos-da-responsabilidade-do-estado-em-materia-tributaria/
LOCATION:Avenida do Batel\, nº 1868 – Loja 314 piso L3\, Curitiba\, Paraná\, 80420-090\, Brasil
GEO:-25.443012;-49.2899507
X-APPLE-STRUCTURED-LOCATION;VALUE=URI;X-ADDRESS=Avenida do Batel nº 1868 – Loja 314 piso L3 Curitiba Paraná 80420-090 Brasil;X-APPLE-RADIUS=500;X-TITLE=Avenida do Batel\, nº 1868 – Loja 314 piso L3:geo:-49.2899507,-25.443012
CATEGORIES:LANÇAMENTOS,SESSÕES DE AUTÓGRAFOS
END:VEVENT
END:VCALENDAR