BEGIN:VCALENDAR
VERSION:2.0
PRODID:-//VILA - Blog - ECPv4.5.12.2//NONSGML v1.0//EN
CALSCALE:GREGORIAN
METHOD:PUBLISH
X-WR-CALNAME:VILA - Blog
X-ORIGINAL-URL:https://blog.livrariadavila.com.br
X-WR-CALDESC:Events for VILA - Blog
BEGIN:VEVENT
DTSTART;TZID=America/Sao_Paulo:20190314T190000
DTEND;TZID=America/Sao_Paulo:20190314T213000
DTSTAMP:20260420T154332
CREATED:20190220T201925Z
LAST-MODIFIED:20190220T201925Z
UID:93484-1552590000-1552599000@blog.livrariadavila.com.br
SUMMARY:Gestão Fácil - multiplique seus negócios com uma estratégia para gerar facilidades de maneira ágil em todas as pontas da sua empresa
DESCRIPTION:Embora existam diversos perfis de empresários\, há uma característica comum a todos: eles não dormem! Isso se deve a muitos fatores: barreiras burocráticas\, equipes desalinhadas\, dificuldades financeiras\, pressão por inovar rapidamente etc. Assim\, depois de ter superado os mais diversos desafios que podem ocorrer na carreira de um gestor\, Oséias Gomes\, fundador da Odonto Excellence Franchising\, traz em Gestão fácil a receita secreta para que você consiga gerar facilidades\, montar uma equipe de sucesso e multiplicar sua empresa de maneira ágil e fácil. Sem contar\, é claro\, de poder desfrutar de noites melhores de sono com a certeza de que tudo está funcionando como deveria! Gestão é a base para aqueles que querem multiplicar o seu negócio e crescer exponencialmente. Em seu primeiro livro\, Gestão fácil\, Oséias Gomes conversa diretamente com os empresários que compartilham dessa pressão e buscam as melhores estratégias e práticas a adotar para manter seus negócios competitivos num mercado que cada vez mais se engole. \nDe Oséias Gomes \nEd. Gente \n
URL:https://blog.livrariadavila.com.br/event/gestao-facil-multiplique-seus-negocios-com-uma-estrategia-para-gerar-facilidades-de-maneira-agil-em-todas-as-pontas-da-sua-empresa/
LOCATION:Rua Fradique Coutinho\, 915 - Pinheiros\, São Paulo\, São Paulo\, 05416-011\, Brasil
GEO:-23.5592934;-46.6892019
X-APPLE-STRUCTURED-LOCATION;VALUE=URI;X-ADDRESS=Rua Fradique Coutinho 915 - Pinheiros São Paulo São Paulo 05416-011 Brasil;X-APPLE-RADIUS=500;X-TITLE=Rua Fradique Coutinho\, 915 - Pinheiros:geo:-46.6892019,-23.5592934
CATEGORIES:LANÇAMENTOS,SESSÕES DE AUTÓGRAFOS
END:VEVENT
END:VCALENDAR