BEGIN:VCALENDAR
VERSION:2.0
PRODID:-//VILA - Blog - ECPv4.5.12.2//NONSGML v1.0//EN
CALSCALE:GREGORIAN
METHOD:PUBLISH
X-WR-CALNAME:VILA - Blog
X-ORIGINAL-URL:https://blog.livrariadavila.com.br
X-WR-CALDESC:Events for VILA - Blog
BEGIN:VEVENT
DTSTART;TZID=America/Sao_Paulo:20181126T183000
DTEND;TZID=America/Sao_Paulo:20181126T213000
DTSTAMP:20260419T234221
CREATED:20181023T124006Z
LAST-MODIFIED:20181106T130407Z
UID:23154-1543257000-1543267800@blog.livrariadavila.com.br
SUMMARY:Gestão pública eficiente - Colocando o cidadão no centro das atenções
DESCRIPTION: As tecnologias digitais estão cada vez mais presentes na vida de todos: em casa\, no trabalho\, nas escolas\, nos meios de comunicação e nas relações sociais. Para que o Brasil possa tirar pleno proveito da revolução digital\, colhendo todos os benefícios que a sociedade da informação e do conhecimento tem a oferecer\, a economia nacional deve se transformar\, com dinamismo\, competitividade e inclusão\, absorvendo a digitalização em seus processos\, valores e conhecimento. \nDe Florencia Ferrer \nEd. Alta Books \n
URL:https://blog.livrariadavila.com.br/event/gestao-publica-eficiente-colocando-o-cidadao-no-centro-das-atencoes/
LOCATION:Rua Fradique Coutinho\, 915 - Pinheiros\, São Paulo\, São Paulo\, 05416-011\, Brasil
GEO:-23.5592934;-46.6892019
X-APPLE-STRUCTURED-LOCATION;VALUE=URI;X-ADDRESS=Rua Fradique Coutinho 915 - Pinheiros São Paulo São Paulo 05416-011 Brasil;X-APPLE-RADIUS=500;X-TITLE=Rua Fradique Coutinho\, 915 - Pinheiros:geo:-46.6892019,-23.5592934
CATEGORIES:LANÇAMENTOS,SESSÕES DE AUTÓGRAFOS
END:VEVENT
END:VCALENDAR