BEGIN:VCALENDAR
VERSION:2.0
PRODID:-//VILA - Blog - ECPv4.5.12.2//NONSGML v1.0//EN
CALSCALE:GREGORIAN
METHOD:PUBLISH
X-WR-CALNAME:VILA - Blog
X-ORIGINAL-URL:https://blog.livrariadavila.com.br
X-WR-CALDESC:Events for VILA - Blog
BEGIN:VEVENT
DTSTART;TZID=America/Sao_Paulo:20181206T183000
DTEND;TZID=America/Sao_Paulo:20181206T213000
DTSTAMP:20260421T091457
CREATED:20181128T153628Z
LAST-MODIFIED:20181128T153628Z
UID:23750-1544121000-1544131800@blog.livrariadavila.com.br
SUMMARY:Global Law: Legal Answers for Concrete Challenges
DESCRIPTION: \nThe idea of developing the book Global Law: Legal Answers for Concrete Challenges has its origin in the intense internationalization process of São Paulo Law School of Fundação Getulio Vargas (FGV DIREITO SP). The fact that FGV DIREITO SP has received a considerable number of foreign visiting professors over the last eight years in its Global Law Program and has participated actively in the constitution and development of the Law School Global League (LSGL) were the starting point for the structuring of this book. \nThe main objective of the Global Law: Legal Answers for Concrete Challenges is to allow the discussion of themes considered global from different points of view\, but with an emphasis on the Brazilian vision. \n  \nDe Maria Lucia Labate Mantovanini Padua Lima e José Garcez Ghirardi (Orgs.) \nEd. Juruá \n
URL:https://blog.livrariadavila.com.br/event/global-law-legal-answers-for-concrete-challenges/
CATEGORIES:LANÇAMENTOS,SESSÕES DE AUTÓGRAFOS
END:VEVENT
END:VCALENDAR