BEGIN:VCALENDAR
VERSION:2.0
PRODID:-//VILA - Blog - ECPv4.5.12.2//NONSGML v1.0//EN
CALSCALE:GREGORIAN
METHOD:PUBLISH
X-WR-CALNAME:VILA - Blog
X-ORIGINAL-URL:https://blog.livrariadavila.com.br
X-WR-CALDESC:Events for VILA - Blog
BEGIN:VEVENT
DTSTART;TZID=America/Sao_Paulo:20260512T180000
DTEND;TZID=America/Sao_Paulo:20260512T210000
DTSTAMP:20260424T010327
CREATED:20260423T172110Z
LAST-MODIFIED:20260423T172110Z
UID:133572-1778608800-1778619600@blog.livrariadavila.com.br
SUMMARY:GUARDA\, VISITAS E ALIMENTOS NA PRÁTICA - ROBERTO FLEURY DE SOUZA BERTAGNI - ED. SARAIVA JURÍDICOS
DESCRIPTION: \n\n\n\n\nAplicar o direito às relações interpessoais é tarefa complexa\, pois envolve sentimentos e mágoas\, permeados por questões financeiras. Em meio a esses conflitos\, destacam-se aqueles que mais carecem de proteção: os filhos menores. Os impactos na vida de uma criança quando se decide com quem ela vai ficar\, qual é o valor da pensão\, os dias de visitas etc. são grandes e relevantes\, merecendo\, portanto\, especial atenção. Este livro tem a finalidade de contribuir com os operadores do direito e com todos que lidam com questões nessa área\, a fim de que as decisões sejam aquelas que mais atendam aos interesses e à proteção de crianças e adolescentes. A partir de sua atuação funcional na Procuradoria de Justiça Cível\, na emissão de pareceres jurídicos\, o autor agrupou as principais questões do dia a dia a serem enfrentadas por advogados e membros do Ministério Público\, da Defensoria Pública e do Poder Judiciário. O objetivo desta obra é apresentar aos leitores questões práticas enfrentadas nos processos\, alinhadas aos principais entendimentos sobre cada tema\, com foco na busca pelo melhor interesse dos menores. O livro\, dividido em quatro partes\, traz conceitos\, doutrinas clássica e contemporânea\, além de jurisprudência recente dos tribunais brasileiros. Na primeira\, são abordados temas sobre Família; na segunda\, sobre Alimentos; na terceira\, sobre Guarda; e na quarta\, sobre Regime de Convivência. Abordam-se\, ainda\, questões sobre dois temas atuais: animais de estimação e bonecos reborn. Além disso\, a obra propõe a atualização de conceitos à luz da realidade social contemporânea\, configurando-se como um verdadeiro guia prático de atuação.\n\n\n\n\n
URL:https://blog.livrariadavila.com.br/event/guarda-visitas-e-alimentos-na-pratica-roberto-fleury-de-souza-bertagni-ed-saraiva-juridicos/
LOCATION:Av. Higienópolis\, 618 – Higienópolis\, São Paulo\, SP\, 01238-000\, Brasil
GEO:-23.542049;-46.6577148
X-APPLE-STRUCTURED-LOCATION;VALUE=URI;X-ADDRESS=Av. Higienópolis 618 – Higienópolis São Paulo SP 01238-000 Brasil;X-APPLE-RADIUS=500;X-TITLE=Av. Higienópolis\, 618 – Higienópolis:geo:-46.6577148,-23.542049
CATEGORIES:LANÇAMENTOS,SESSÕES DE AUTÓGRAFOS
END:VEVENT
END:VCALENDAR