BEGIN:VCALENDAR
VERSION:2.0
PRODID:-//VILA - Blog - ECPv4.5.12.2//NONSGML v1.0//EN
CALSCALE:GREGORIAN
METHOD:PUBLISH
X-WR-CALNAME:VILA - Blog
X-ORIGINAL-URL:https://blog.livrariadavila.com.br
X-WR-CALDESC:Events for VILA - Blog
BEGIN:VEVENT
DTSTART;TZID=America/Sao_Paulo:20221105T170000
DTEND;TZID=America/Sao_Paulo:20221105T200000
DTSTAMP:20260421T012823
CREATED:20221019T204806Z
LAST-MODIFIED:20221019T204806Z
UID:115706-1667667600-1667678400@blog.livrariadavila.com.br
SUMMARY:GUIA DA ORGANIZAÇÃO FINANCEIRA - NILTON F. COUTINHO - ED. PRIMEIRO CAPÍTULO
DESCRIPTION: \n  \nEsse livro é baseado em diversas referências na área financeira e em minhas\nexperiencias ao longo de 40 anos de carreira e tem como foco central um método que\ndesenvolvi chamado de Método dos 4As\, a saber: Análise\, Atitude\, Ações e\nAplicações/investimentos. Nele apresento de forma simples e objetiva\, caminhos para\nque pessoas que estejam desorganizadas financeiramente ou mesmo endividadas\,\npossam de uma forma bem prática iniciar seu projeto de recuperação financeira\,\nprojeto este que culminará com o aprendizado de diversas formas de investimentos\nque o mercado oferece atualmente.Na verdade\, podemos entender como um manual\,\nou seja\, um verdadeiro passo a passo de como organizar-se financeiramente de forma\nsustentável e motivante\, melhorando sobremaneira sua qualidade de vida. \n
URL:https://blog.livrariadavila.com.br/event/guia-da-organizacao-financeira-nilton-f-coutinho-ed-primeiro-capitulo/
LOCATION:Av. Regente Feijó\, nº 1739 – Loja L11 – Vl.\, São Paulo\, São Paulo\, 03342-900
END:VEVENT
END:VCALENDAR