BEGIN:VCALENDAR
VERSION:2.0
PRODID:-//VILA - Blog - ECPv4.5.12.2//NONSGML v1.0//EN
CALSCALE:GREGORIAN
METHOD:PUBLISH
X-WR-CALNAME:VILA - Blog
X-ORIGINAL-URL:https://blog.livrariadavila.com.br
X-WR-CALDESC:Events for VILA - Blog
BEGIN:VEVENT
DTSTART;TZID=America/Sao_Paulo:20181113T183000
DTEND;TZID=America/Sao_Paulo:20181113T213000
DTSTAMP:20260420T231341
CREATED:20181015T174329Z
LAST-MODIFIED:20181015T174329Z
UID:23016-1542133800-1542144600@blog.livrariadavila.com.br
SUMMARY:Haicais tropicais
DESCRIPTION:Com mais de uma centena de tercetos\, além de uma introdução sobre o histórico do haicai e biografias dos autores selecionados\, este é um convite para conhecer a tradição poética japonesa em sua melhor roupagem tropical. \n“Uma leitura obrigatória para quem gosta de haicais e para quem ainda não sabe que gosta. Para poetas e não poetas. Para quem escreve e para quem quer aprender a escrever. Para todos os que procuram a surpresa e a essência da vida.” – José Eduardo Agualusa \nDe Rodolfo W. Guttilla (Org.) \nEd. Boa Companhia \nHaverá bate-papo com o autor. \n
URL:https://blog.livrariadavila.com.br/event/haicais-tropicais/
CATEGORIES:LANÇAMENTOS,SESSÕES DE AUTÓGRAFOS
END:VEVENT
END:VCALENDAR