BEGIN:VCALENDAR
VERSION:2.0
PRODID:-//VILA - Blog - ECPv4.5.12.2//NONSGML v1.0//EN
CALSCALE:GREGORIAN
METHOD:PUBLISH
X-WR-CALNAME:VILA - Blog
X-ORIGINAL-URL:https://blog.livrariadavila.com.br
X-WR-CALDESC:Events for VILA - Blog
BEGIN:VEVENT
DTSTART;TZID=America/Sao_Paulo:20191022T183000
DTEND;TZID=America/Sao_Paulo:20191022T213000
DTSTAMP:20260422T190421
CREATED:20191002T171042Z
LAST-MODIFIED:20191002T171042Z
UID:99526-1571769000-1571779800@blog.livrariadavila.com.br
SUMMARY:Herói mutilado
DESCRIPTION: \nEm Herói mutilado\, a jornalista Laura Mattos segue a trajetória de uma obra que foi censurada como peça de teatro em 1965\, teve uma primeira versão como novela proibida em 1975 e\, quando finalmente foi ao ar\, dez anos depois\, sofreu seguidos cortes. Quando estreou\, em 1985\, ano da saída dos militares do comando do país\, a novela Roque Santeiro conquistou a maior audiência da história da televisão brasileira. A obra de Dias Gomes\, sobre o mito de um falso herói\, experimentou as mais variadas formas de repressão durante a ditadura\, com uma trajetória ímpar. Ao revelar os bastidores da censura à TV na ditadura\, a autora registra como o aparato legal usado pelos militares foi o mesmo aplicado durante os anos democráticos entre o final da Era Vargas e o golpe de 1964\, prova de que esse mal não é exclusividade de regimes de exceção. A pesquisa se apoia em cerca de 2 mil páginas de documentos oficiais produzidos durante a ditadura\, além do acervo pessoal de Dias Gomes\, que inclui cartas e um diário até hoje inédito. \n  \nDe Laura Mattos \nEd. Companhia das Letras \n  \nLançamento e bate-papo \n
URL:https://blog.livrariadavila.com.br/event/heroi-mutilado/
CATEGORIES:BATE-PAPO,LANÇAMENTOS,SESSÕES DE AUTÓGRAFOS
END:VEVENT
END:VCALENDAR